View In:
ArcGIS JavaScript
ArcGIS Online Map Viewer
ArcGIS Earth
ArcMap
ArcGIS Pro
View Footprint In:
ArcGIS Online Map Viewer
Service Description: The Street Basemap provides a tiled, base map for use with web mapping applications. Map Projection: Web Mercator (Auxiliary Sphere) Cache Creation Date: 10/03/2023
Map Name: Street Map WM
Legend
All Layers and Tables
Layers:
Description: Street Map is a tiled, base map for Indian River County, Florida
Service Item Id: 0e29541a01f943eb9f3d2e7f27b9844c
Copyright Text: IRCGIS, IRCPA
Spatial Reference:
102100
(3857)
Single Fused Map Cache: true
Tile Info:
- Height: 256
- Width: 256
- DPI: 96
-
Levels of Detail: 24
-
Level ID: 0
[ Start Tile, End Tile ]
- Resolution: 156543.03392800014
- Scale: 5.91657527591555E8
-
Level ID: 1
[ Start Tile, End Tile ]
- Resolution: 78271.51696399994
- Scale: 2.95828763795777E8
-
Level ID: 2
[ Start Tile, End Tile ]
- Resolution: 39135.75848200009
- Scale: 1.47914381897889E8
-
Level ID: 3
[ Start Tile, End Tile ]
- Resolution: 19567.87924099992
- Scale: 7.3957190948944E7
-
Level ID: 4
[ Start Tile, End Tile ]
- Resolution: 9783.93962049996
- Scale: 3.6978595474472E7
-
Level ID: 5
[ Start Tile, End Tile ]
- Resolution: 4891.96981024998
- Scale: 1.8489297737236E7
- Format: JPEG
- Compression Quality: 90.0
- Origin: X: -2.0037508342787E7
Y: 2.0037508342787E7
- Spatial Reference: 102100
(3857)
Initial Extent:
XMin: -9047782.556098782
YMin: 3218136.0470353584
XMax: -8895367.121698081
YMax: 3260329.2866487917
Spatial Reference: 102100
(3857)
Full Extent:
XMin: -9069245.091986546
YMin: 3151462.452251109
XMax: -8874355.753821531
YMax: 3273169.1473658043
Spatial Reference: 102100
(3857)
Units: esriMeters
Supported Image Format Types: PNG32,PNG24,PNG,JPG,DIB,TIFF,EMF,PS,PDF,GIF,SVG,SVGZ,BMP
Document Info:
Title: Street Base Map (WM) for Indian River County, Florida
Author: IRCGIS
Comments: The Street Basemap provides a tiled, base map for use with web mapping applications. Map Projection: Web Mercator (Auxiliary Sphere)
Subject: The Street Basemap provides a tiled, base map for use with web mapping applications. Map Projection: Web Mercator (Auxiliary Sphere)
Category:
Keywords: Basemap
AntialiasingMode: None
TextAntialiasingMode: Force
Supports Dynamic Layers: false
Resampling: true
MaxRecordCount: 1000
MaxImageHeight: 4096
MaxImageWidth: 4096
Supported Query Formats: JSON, geoJSON
Supports Query Data Elements:
Min Scale: 577790.554289
Max Scale: 70.5310735
Supports Datum Transformation: true
Child Resources:
Info
Supported Operations:
Export Map
Identify
QueryLegends
QueryDomains
Find
EstimateExportTilesSize
ExportTiles
Return Updates