View In:
ArcGIS JavaScript
ArcGIS Online Map Viewer
ArcGIS Earth
ArcMap
ArcGIS Pro
View Footprint In:
ArcGIS Online Map Viewer
Service Description: Aerial Imagery, Tiled, map cache for Indian River County, Mercator_Auxiliary_Sphere map projection. Cache Creation Date: 09/29/2023. Cache contains imagery from three different dates. New January 2023 3 inch resolution Eagleview imagery used to populate the eastern half of County for 4 lowest map scales (4800, 2400, 1200, 600). 2022 USDA NAIP 1 foot resolution imagery used for map scales between 5000 and 25,000 in eastern half of County. USDA_CONUS_PRIME NAIP image service used for all small map scales > 1:25,000.
Map Name: Aerials_WM
Legend
All Layers and Tables
Layers:
Description:
Service Item Id: 0f506bab45fb454c867228039960cdb2
Copyright Text: IRCGIS, FDOT, USDA
Spatial Reference:
102100
(3857)
Single Fused Map Cache: true
Tile Info:
- Height: 256
- Width: 256
- DPI: 96
-
Levels of Detail: 24
-
Level ID: 0
[ Start Tile, End Tile ]
- Resolution: 156543.03392800014
- Scale: 5.91657527591555E8
-
Level ID: 1
[ Start Tile, End Tile ]
- Resolution: 78271.51696399994
- Scale: 2.95828763795777E8
-
Level ID: 2
[ Start Tile, End Tile ]
- Resolution: 39135.75848200009
- Scale: 1.47914381897889E8
-
Level ID: 3
[ Start Tile, End Tile ]
- Resolution: 19567.87924099992
- Scale: 7.3957190948944E7
-
Level ID: 4
[ Start Tile, End Tile ]
- Resolution: 9783.93962049996
- Scale: 3.6978595474472E7
-
Level ID: 5
[ Start Tile, End Tile ]
- Resolution: 4891.96981024998
- Scale: 1.8489297737236E7
- Format: JPEG
- Compression Quality: 55.0
- Origin: X: -2.0037508342787E7
Y: 2.0037508342787E7
- Spatial Reference: 102100
(3857)
Initial Extent:
XMin: -9033020.300215485
YMin: 3210135.1505347337
XMax: -8887408.1589912
YMax: 3250445.031154495
Spatial Reference: 102100
(3857)
Full Extent:
XMin: -9009907.822078463
YMin: 3184420.3799828854
XMax: -8936536.375731621
YMax: 3240171.4440007894
Spatial Reference: 102100
(3857)
Units: esriMeters
Supported Image Format Types: PNG32,PNG24,PNG,JPG,DIB,TIFF,EMF,PS,PDF,GIF,SVG,SVGZ,BMP
Document Info:
Title: Aerial Imagery for Indian River County, Florida
Author: IRCGIS
Comments: Aerial Imagery, Tiled, map cache for Indian River County, Florida.Map Projection: Web Mercator (Auxiliary Sphere). Cache Creation Date: 7/18/2016
Cache contains imagery from three different dates. January 2016 imagery used for populated eastern half of County. 2015 imagery used for remaining western half of County. USDA NAIP Imagery from 2013 used for map scales >= 1:36,000.
Subject: Aerial Imagery, Tiled, map cache for Indian River County, Florida. Map Projection: Web Mercator (Auxiliary Sphere). Cache Creation Date: 7/18/2016
Category:
Keywords: Aerial Imagery
AntialiasingMode: None
TextAntialiasingMode: Force
Supports Dynamic Layers: false
Resampling: true
MaxRecordCount: 1000
MaxImageHeight: 4096
MaxImageWidth: 4096
Supported Query Formats: JSON, geoJSON
Supports Query Data Elements:
Min Scale: 577790.554289
Max Scale: 70.5310735
Supports Datum Transformation: true
Child Resources:
Info
Supported Operations:
Export Map
Identify
QueryLegends
QueryDomains
Find
EstimateExportTilesSize
ExportTiles
Return Updates