<?xml version="1.0" encoding="UTF-8" standalone="no"?>
<metadata>
<idinfo>
<citation>
<citeinfo>
<origin>Jones Edmunds &amp; Associates</origin>
<pubdate>20090415</pubdate>
<title Sync="TRUE">ir5_nn</title>
<geoform Sync="TRUE">raster digital data</geoform>
<onlink Sync="FALSE">withheld</onlink>
<ftname Sync="TRUE">ir5_nn</ftname>
</citeinfo>
</citation>
<descript>
<abstract>Raster grids provide a 2-dimensional representation of the earth's surface. This raster grid is derived from a terrain dataset created from LiDAR data flown from July 2007 to August 2007 by Woolpert Inc.</abstract>
<purpose>Raster grid contains information that will be used to create hydraulic and hydrologic models.</purpose>
<langdata Sync="TRUE">en</langdata>
</descript>
<timeperd>
<timeinfo>
<rngdates>
<begdate>20070717</begdate>
<begtime>unknown</begtime>
<enddate>20070809</enddate>
</rngdates>
<sngdate>
<caldate>REQUIRED: The year (and optionally month, or month and day) for which the data set corresponds to the ground.</caldate>
</sngdate>
</timeinfo>
<current>ground condition</current>
</timeperd>
<status>
<progress>Complete</progress>
<update>As needed</update>
</status>
<spdom>
<bounding>
<westbc Sync="TRUE">-80.617825</westbc>
<eastbc Sync="TRUE">-80.307202</eastbc>
<northbc Sync="TRUE">27.868259</northbc>
<southbc Sync="TRUE">27.550730</southbc>
</bounding>
<lboundng>
<leftbc Sync="TRUE">779997.500042</leftbc>
<rightbc Sync="TRUE">880002.500042</rightbc>
<bottombc Sync="TRUE">1169997.499934</bottombc>
<topbc Sync="TRUE">1285002.499934</topbc>
</lboundng>
</spdom>
<keywords>
<theme>
<themekt>None</themekt>
<themekey>LIDAR</themekey>
<themekey>Digital Terrain Model (DTM)</themekey>
</theme>
<place>
<placekt>None</placekt>
<placekey>Florida</placekey>
<placekey>Indian River County</placekey>
</place>
</keywords>
<accconst>The data are being provided on an 'as is' basis. Jones Edmunds specifically disclaims any warranty, expressed or implied, including, but not limited to, the implied warranties or merchantability and fitness for a particular use. The entire risk as to quality and performance is with the user. In no event will Jones Edmunds or its staff be liable for any direct, indirect, incidental, special, consequential, or other damages, including loss of profit, arising out of the use of these data even if the Jones Edmunds has been advised of the possibility of such damages. All data are intended for resource management use.</accconst>
<useconst>Use of these data requires a general understanding of GIS. Translation of files to formats other than those described here is the sole responsibility of individuals downloading the data.</useconst>
<ptcontac>
<cntinfo>
<cntorgp>
<cntorg>Jones Edmunds &amp; Associates</cntorg>
</cntorgp>
<cntaddr>
<addrtype>mailing and physical address</addrtype>
<address>730 NE Waldo Road</address>
<city>Gainesville</city>
<state>Florida</state>
<postal>32641</postal>
<country>USA</country>
</cntaddr>
<cntvoice>352.377.5821</cntvoice>
<hours>8am-5pm</hours>
<cntinst>telephone</cntinst>
</cntinfo>
</ptcontac>
<native Sync="FALSE">ESRI ArcCatalog 9.3.1.1850</native>
<natvform Sync="TRUE">Raster Dataset</natvform>
</idinfo>
<dataqual>
<attracc>
<attraccr>DEM data</attraccr>
</attracc>
<logic>The data should be complete without any gaps.</logic>
<complete>Complete</complete>
<posacc>
<horizpa>
<horizpar>created from LiDAR data that should meet 3.8 foot (2.2 ft RMSE)</horizpar>
</horizpa>
<vertacc>
<vertaccr>created from LiDAR data that should meet .6 foot fundamental vertical accuracy</vertaccr>
</vertacc>
</posacc>
<lineage>
<srcinfo>
<srccite>
<citeinfo>
<origin>Florida DEM</origin>
<origin>Woolpert, Inc.</origin>
<pubdate>20080327</pubdate>
<pubtime>Unknown</pubtime>
<title>Contract 07-HS-34-14-00-22-469</title>
<geoform>model</geoform>
</citeinfo>
</srccite>
<typesrc>disc</typesrc>
<srctime>
<timeinfo>
<sngdate>
<caldate>20080327</caldate>
</sngdate>
</timeinfo>
<srccurr>ground condition</srccurr>
</srctime>
<srccitea>Laser</srccitea>
<srccontr>Onboard Laser</srccontr>
</srcinfo>
<procstep>
<procdesc>LiDAR was collected within portions of Indian River County. System Parameters/Flight Plan: The LiDAR system acquisition parameters were developed based on a maximum average ground sample distance of 4 feet. Two Leica ALS50 sensors were used for acquisition. Acquisition specifications for the two sensors were as follows: Sensor 19 Field of View (full angle) - 29 degrees Nominal flight altitude (AMSL) - 3999.30 feet Airspeed - 54.02 meters/sec Laser pulse rate - 75,000 Hz Nominal swath width (on ground) - 2068.58 feet Maximum cross track point spacing - 3.91 feet Maximum along track point spacing - 3.94 feet Average point spacing - 2.21 feet Flight line spacing - 1544.95 feet Side overlap - 25.31 percent Sensor 59 Field of View (full angle) - 29 degrees Nominal flight altitude (AMSL) - 3999.30 feet Airspeed - 60.70 meters/sec Laser pulse rate - 84,400 Hz Nominal swath width (on ground) - 2068.58 feet Maximum cross track point spacing - 3.94 feet Maximum along track point spacing - 3.91 feet Average point spacing - 2.21 feet Flight line spacing - 1413.72 feet Side overlap - 31.66 percent. LiDAR System Calibration: Prior to the LiDAR acquisition, the system underwent a calibration to verify the operational accuracy and misalignment angles. Boresight calibrations were performed for each LiDAR system at the beginning and end of each flight mission. LiDAR Data Acquisition: LiDAR data acquisition only occurred when the sky was sufficiently clear of clouds, smoke, and atmospheric haze. The LiDAR data was processed immediately after the acquisition to verify the coverage had no voids. GPS/Inertial Measurement Unit (IMU) Post Processing: The GPS and IMU data was post processed using differential and Kalman filter algorithms to derive a best estimate of trajectory. The quality of the solution was verified to be consistent with the accuracy requirements of the project. LiDAR Processing and Classification: The LiDAR data was post processed and verified to be consistent with the project requirements in terms of post spacing and absence of artifacts. The point cloud underwent classification to determine bare-earth points (class 2), noise points (class 7), water returns (class 9), and unclassified data (class 1). Class 12 contains LiDAR points removed from the overlap region between adjacent flight lines.</procdesc>
<procdate>20090105</procdate>
<proccont>
<cntinfo>
<cntorgp>
<cntorg>Woolpert, Inc.</cntorg>
<cntper>Richard R. Hudson, PE, PSM, CP</cntper>
</cntorgp>
<cntpos>Project Manager</cntpos>
<cntaddr>
<addrtype>mailing and physical address</addrtype>
<address>3504 Lake Lynda Drive, Suite 400</address>
<city>Orlando</city>
<state>Florida</state>
<postal>32817</postal>
<country>USA</country>
</cntaddr>
<cntvoice>407-381-2192</cntvoice>
<cntfax>407-384-1185</cntfax>
<cntemail>www.woolpert.com</cntemail>
<hours>8:00-5:00</hours>
<cntinst>Monday-Friday</cntinst>
</cntinfo>
</proccont>
</procstep>
<procstep>
<procdesc>The Airborne Global Positioning System (ABGPS), inertial measurement unit (IMU), and raw scans are collected during the LiDAR aerial survey. The ABGPS monitors the xyz position of the sensor and the IMU monitors the orientation. During the aerial survey laser pulses reflected from features on the ground surface are detected by the receiver optics and collected by the data logger. GPS locations are based on data collected by receivers on the aircraft and base stations on the ground. The ground base stations are placed no more than 20 mile radius from the flight survey area.</procdesc>
<srcused>withheld</srcused>
<srcused>withheld</srcused>
<srcused>withheld</srcused>
<srcused>withheld</srcused>
<procdate>20090105</procdate>
<srcprod>withheld</srcprod>
<srcprod>withheld</srcprod>
<proccont>
<cntinfo>
<cntorgp>
<cntorg>Woolpert, Inc.</cntorg>
<cntper>Richard R. Hudson, PE, PSM, CP</cntper>
</cntorgp>
<cntpos>Project Manager</cntpos>
<cntaddr>
<addrtype>mailing and physical address</addrtype>
<address>3504 Lake Lynda Drive, Suite 400</address>
<city>Orlando</city>
<state>Florida</state>
<postal>32817</postal>
<country>USA</country>
</cntaddr>
<cntvoice>407-381-2192</cntvoice>
<cntfax>407-384-1185</cntfax>
<cntemail>www.woolpert.com</cntemail>
<hours>8:00-5:00</hours>
<cntinst>Monday-Friday</cntinst>
</cntinfo>
</proccont>
</procstep>
<procstep>
<procdesc>The ABGPS, IMU, and raw scans are integrated using proprietary software developed by the Leica Geosystems and delivered with the Leica ALS50 System. The resultant file is in a LAS binary 1.1 file format. The LAS file format can be easily transferred from one file format to another. It is a binary file format that maintains information specific to the LiDAR data (return#, intensity value, xyz, etc.). The resultant points are produced in the Florida State Plane East Zone coordinate system, with units in feet and referenced to the NAD83/90 HARN horizontal datum and NAVD88 vertical datum.</procdesc>
<srcused>withheld</srcused>
<srcused>withheld</srcused>
<srcused>withheld</srcused>
<procdate>20090105</procdate>
<srcprod>withheld</srcprod>
<proccont>
<cntinfo>
<cntperp>
<cntper>Richard R. Hudson, PE, PSM, CP</cntper>
<cntorg>Woolpert, Inc.</cntorg>
</cntperp>
<cntpos>Project Manager</cntpos>
<cntaddr>
<addrtype>mailing and physical address</addrtype>
<address>3504 Lake Lynda Drive, Suite 400</address>
<city>Orlando</city>
<state>Florida</state>
<postal>32817</postal>
<country>USA</country>
</cntaddr>
<cntvoice>407-381-2192</cntvoice>
<cntfax>407-384-1185</cntfax>
<cntemail>www.woolpert.com</cntemail>
<hours>8:00-5:00</hours>
<cntinst>Monday-Friday</cntinst>
</cntinfo>
</proccont>
</procstep>
<procstep>
<procdesc>The unedited data are classified to facilitate the application of the appropriate feature extraction filters. Interactive editing methods are applied to those areas where it is inappropriate or impossible to use the feature extraction filters, based upon the design criteria and/or limitations of the relevant filters. These same feature extraction filters are used to produce elevation height surfaces. Point classification: Class1 = Unclassified, Class2 = Ground, Class7 = Noise, Class9 = Water, Class12 = Overlap</procdesc>
<procdate>20090105</procdate>
<proccont>
<cntinfo>
<cntperp>
<cntper>Richard R. Hudson, PE, PSM, CP</cntper>
<cntorg>Woolpert, Inc.</cntorg>
</cntperp>
<cntpos>Project Manager</cntpos>
<cntaddr>
<addrtype>mailing and physical address</addrtype>
<address>3504 Lake Lynda Drive, Suite 400</address>
<city>Orlando</city>
<state>Florida</state>
<postal>32817</postal>
<country>USA</country>
</cntaddr>
<cntvoice>407-381-2192</cntvoice>
<cntfax>407-384-1185</cntfax>
<cntemail>www.woolpert.com</cntemail>
<hours>8:00-5:00</hours>
<cntinst>Monday-Friday</cntinst>
</cntinfo>
</proccont>
</procstep>
<procstep>
<procdesc>Filtered LiDAR and vector data are subjected to rigorous QA/QC procedures designed by Woolpert. Stereo imagery was created from the LiDAR surface and orthophoto imagery using GeoCue software. From these stereo images, or LiDARgrammetry, breakline features were collected along linear topographic features as required. Breakline elevations were linearly ramped between identified critical elevation points.</procdesc>
<srcused>withheld</srcused>
<procdate>20090105</procdate>
<srcprod>withheld</srcprod>
<srcprod>withheld</srcprod>
<proccont>
<cntinfo>
<cntperp>
<cntper>Richard R. Hudson, PE, PSM, CP</cntper>
<cntorg>Woolpert, Inc.</cntorg>
</cntperp>
<cntpos>Project Manager</cntpos>
<cntaddr>
<addrtype>mailing and physical address</addrtype>
<address>3504 Lake Lynda Drive, Suite 400</address>
<city>Orlando</city>
<state>Florida</state>
<postal>32817</postal>
<country>USA</country>
</cntaddr>
<cntvoice>407-381-2192</cntvoice>
<cntfax>407-384-1185</cntfax>
<cntemail>www.woolpert.com</cntemail>
<hours>8:00-5:00</hours>
<cntinst>Monday-Friday</cntinst>
</cntinfo>
</proccont>
</procstep>
<procstep>
<procdesc>A breakline enforced terrain was created in ArcCatalog using the vector breakline data and masspoints from the Indian River County delivery area.</procdesc>
<procdate>052009</procdate>
<proccont>
<cntinfo>
<cntorgp>
<cntorg>Jones Edmunds &amp; Associates</cntorg>
</cntorgp>
<cntaddr>
<addrtype>mailing and physical address</addrtype>
<address>730 NE Waldo Road</address>
<city>Gainesville</city>
<state>Florida</state>
<postal>32641</postal>
<country>USA</country>
</cntaddr>
<cntvoice>352.377.5821</cntvoice>
</cntinfo>
</proccont>
</procstep>
<procstep>
<procdesc>The DEM was created using ArcCatalog's 'Terrain to Raster' tool. 'Natural_Neighbors' was chosen as the sampling method and a cell size of 5 feet was designated.</procdesc>
<procdate>052009</procdate>
<proccont>
<cntinfo>
<cntorgp>
<cntorg>Jones Edmunds &amp; Associates</cntorg>
</cntorgp>
<cntaddr>
<addrtype>mailing and physical address</addrtype>
<address>730 NE Waldo Road</address>
<city>Gainesville</city>
<state>Florida</state>
<postal>32641</postal>
<country>USA</country>
</cntaddr>
<cntvoice>352.377.5821</cntvoice>
</cntinfo>
</proccont>
</procstep>
<procstep>
<procdesc>Metadata imported.</procdesc>
<srcused>withheld</srcused>
<procdate>20090415</procdate>
<proctime>15493000</proctime>
</procstep>
<procstep>
<procdesc>Metadata imported.</procdesc>
<srcused>withheld</srcused>
<procdate>20090415</procdate>
<proctime>17251100</proctime>
</procstep>
<procstep>
<procdesc Sync="TRUE">Metadata imported.</procdesc>
<srcused Sync="FALSE">withheld</srcused>
<procdate Sync="TRUE">20090604</procdate>
<proctime Sync="TRUE">09440700</proctime>
</procstep>
</lineage>
</dataqual>
<spdoinfo>
<direct Sync="TRUE">Raster</direct>
<rastinfo>
<rasttype Sync="TRUE">Grid Cell</rasttype>
<rowcount Sync="TRUE">23001</rowcount>
<colcount Sync="TRUE">20001</colcount>
<vrtcount Sync="TRUE">1</vrtcount>
<rastxsz Sync="TRUE">5.000000</rastxsz>
<rastysz Sync="TRUE">5.000000</rastysz>
<rastbpp Sync="TRUE">32</rastbpp>
<rastorig Sync="TRUE">Upper Left</rastorig>
<rastcmap Sync="TRUE">FALSE</rastcmap>
<rastcomp Sync="TRUE">Default</rastcomp>
<rastband Sync="TRUE">1</rastband>
<rastdtyp Sync="TRUE">matrix values</rastdtyp>
<rastplyr Sync="TRUE">TRUE</rastplyr>
<rastifor Sync="TRUE">GRID</rastifor>
</rastinfo>
</spdoinfo>
<spref>
<horizsys>
<planar>
<planci>
<plance Sync="TRUE">row and column</plance>
<coordrep>
<absres Sync="TRUE">5.000000</absres>
<ordres Sync="TRUE">5.000000</ordres>
</coordrep>
<plandu Sync="TRUE">survey feet</plandu>
</planci>
</planar>
<geodetic>
<horizdn Sync="TRUE">D_North_American_1983_HARN</horizdn>
<ellips Sync="TRUE">Geodetic Reference System 80</ellips>
<semiaxis Sync="TRUE">6378137.000000</semiaxis>
<denflat Sync="TRUE">298.257222</denflat>
</geodetic>
<cordsysn>
<geogcsn Sync="TRUE">GCS_North_American_1983_HARN</geogcsn>
<projcsn Sync="TRUE">NAD_1983_HARN_StatePlane_Florida_East_FIPS_0901_Feet</projcsn>
</cordsysn>
</horizsys>
<vertdef>
<altsys>
<altdatum>North American Vertical Datum of 1988</altdatum>
<altres>0.000328</altres>
<altunits>Feet</altunits>
<altenc>Explicit elevation coordinate included with horizontal coordinates</altenc>
</altsys>
</vertdef>
</spref>
<distinfo>
<distrib>
<cntinfo>
<cntorgp>
<cntorg>United States Geological Survey</cntorg>
</cntorgp>
<cntpos>GIS</cntpos>
<cntaddr>
<addrtype>mailing and physical address</addrtype>
<address>2010 Levy Ave</address>
<city>Tallahassee</city>
<state>FL</state>
<postal>32310</postal>
</cntaddr>
<cntvoice>(850) 942-9500</cntvoice>
<cntfax>(850) 942-9521</cntfax>
<hours>8:00 am to 5:00 pm</hours>
</cntinfo>
</distrib>
<resdesc>Downloadable Data</resdesc>
<distliab>The data are being provided on an 'as is' basis. Jones Edmunds specifically disclaims any warranty, expressed or implied, including, but not limited to, the implied warranties or merchantability and fitness for a particular use. The entire risk as to quality and performance is with the user. In no event will Jones Edmunds or its staff be liable for any direct, indirect, incidental, special, consequential, or other damages, including loss of profit, arising out of the use of these data even if Jones Edmunds has been advised of the possibility of such damages. All data are intended for resource management use.</distliab>
<stdorder>
<digform>
<digtinfo>
<formname>Geodatabase</formname>
<transize Sync="TRUE">1799.827</transize>
<dssize Sync="TRUE">1799.827</dssize>
</digtinfo>
<digtopt>
<onlinopt>
<computer>
<networka>
<networkr>withheld</networkr>
</networka>
</computer>
</onlinopt>
<offoptn>
<offmedia>CD-ROM</offmedia>
<recfmt>ISO9660</recfmt>
</offoptn>
</digtopt>
</digform>
<fees>fee unknown</fees>
</stdorder>
<availabl>
<timeinfo>
<sngdate>
<caldate>200904</caldate>
</sngdate>
</timeinfo>
</availabl>
</distinfo>
<metainfo>
<metd Sync="TRUE">20090604</metd>
<metc>
<cntinfo>
<cntorgp>
<cntorg>Jones Edmunds &amp; Associates</cntorg>
<cntper>GIS Department Manager</cntper>
</cntorgp>
<cntaddr>
<addrtype>mailing and physical address</addrtype>
<address>730 NE Waldo Road</address>
<city>Gainesville</city>
<state>Florida</state>
<postal>32641</postal>
</cntaddr>
<cntvoice>352.377.5821</cntvoice>
<cntfax>352.377.3166</cntfax>
<hours>8am-5pm</hours>
<cntinst>telephone</cntinst>
</cntinfo>
</metc>
<metstdn Sync="TRUE">FGDC Content Standards for Digital Geospatial Metadata</metstdn>
<metstdv Sync="TRUE">FGDC-STD-001-1998</metstdv>
<mettc Sync="TRUE">local time</mettc>
<metac>The data are being provided on an 'as is' basis. Jones Edmunds specifically disclaims any warranty, expressed or implied, including, but not limited to, the implied warranties or merchantability and fitness for a particular use. The entire risk as to quality and performance is with the user. In no event will Jones Edmunds or its staff be liable for any direct, indirect, incidental, special, consequential, or other damages, including loss of profit, arising out of the use of these data even if Jones Edmunds has been advised of the possibility of such damages. All data are intended for resource management use.</metac>
<metuc>Use of these data requires a general understanding of GIS. Translation of files to formats other than those described here is the sole responsibility of individuals downloading the data.</metuc>
<metextns>
<onlink>http://www.esri.com/metadata/esriprof80.html</onlink>
<metprof>ESRI Metadata Profile</metprof>
</metextns>
<langmeta Sync="TRUE">en</langmeta>
</metainfo>
<Esri>
<MetaID>{8A82C128-B3B1-4D41-BB54-6EB5F7F0E937}</MetaID>
<CreaDate>20090604</CreaDate>
<CreaTime>09440700</CreaTime>
<SyncOnce>FALSE</SyncOnce>
<SyncDate>20140225</SyncDate>
<SyncTime>08475800</SyncTime>
<ModDate>20140225</ModDate>
<ModTime>08475800</ModTime>
<DataProperties>
<itemProps>
<itemName Sync="TRUE">IRC_DEM_15ft.tif</itemName>
<imsContentType Sync="TRUE">002</imsContentType>
<nativeExtBox>
<westBL Sync="TRUE">779997.500042</westBL>
<eastBL Sync="TRUE">880002.500042</eastBL>
<southBL Sync="TRUE">1169997.499934</southBL>
<northBL Sync="TRUE">1285002.499934</northBL>
<exTypeCode Sync="TRUE">1</exTypeCode>
</nativeExtBox>
</itemProps>
<coordRef>
<type Sync="TRUE">Projected</type>
<geogcsn Sync="TRUE">GCS_North_American_1983_HARN</geogcsn>
<csUnits Sync="TRUE">Linear Unit: Foot_US (0.304801)</csUnits>
<projcsn Sync="TRUE">NAD_1983_HARN_StatePlane_Florida_East_FIPS_0901_Feet</projcsn>
<peXml Sync="TRUE">&lt;ProjectedCoordinateSystem xsi:type='typens:ProjectedCoordinateSystem' xmlns:xsi='http://www.w3.org/2001/XMLSchema-instance' xmlns:xs='http://www.w3.org/2001/XMLSchema' xmlns:typens='http://www.esri.com/schemas/ArcGIS/10.1'&gt;&lt;WKT&gt;PROJCS[&amp;quot;NAD_1983_HARN_StatePlane_Florida_East_FIPS_0901_Feet&amp;quot;,GEOGCS[&amp;quot;GCS_North_American_1983_HARN&amp;quot;,DATUM[&amp;quot;D_North_American_1983_HARN&amp;quot;,SPHEROID[&amp;quot;GRS_1980&amp;quot;,6378137.0,298.257222101]],PRIMEM[&amp;quot;Greenwich&amp;quot;,0.0],UNIT[&amp;quot;Degree&amp;quot;,0.0174532925199433]],PROJECTION[&amp;quot;Transverse_Mercator&amp;quot;],PARAMETER[&amp;quot;False_Easting&amp;quot;,656166.6666666665],PARAMETER[&amp;quot;False_Northing&amp;quot;,0.0],PARAMETER[&amp;quot;Central_Meridian&amp;quot;,-81.0],PARAMETER[&amp;quot;Scale_Factor&amp;quot;,0.9999411764705882],PARAMETER[&amp;quot;Latitude_Of_Origin&amp;quot;,24.33333333333333],UNIT[&amp;quot;Foot_US&amp;quot;,0.3048006096012192],AUTHORITY[&amp;quot;EPSG&amp;quot;,2881]],VERTCS[&amp;quot;Unknown VCS&amp;quot;,VDATUM[&amp;quot;Unknown&amp;quot;],PARAMETER[&amp;quot;Vertical_Shift&amp;quot;,0.0],PARAMETER[&amp;quot;Direction&amp;quot;,1.0],UNIT[&amp;quot;Foot_US&amp;quot;,0.3048006096012192]]&lt;/WKT&gt;&lt;XOrigin&gt;-17791300&lt;/XOrigin&gt;&lt;YOrigin&gt;-41645400&lt;/YOrigin&gt;&lt;XYScale&gt;137249422.94257641&lt;/XYScale&gt;&lt;ZOrigin&gt;-100000&lt;/ZOrigin&gt;&lt;ZScale&gt;3048.0060960121923&lt;/ZScale&gt;&lt;MOrigin&gt;-100000&lt;/MOrigin&gt;&lt;MScale&gt;10000&lt;/MScale&gt;&lt;XYTolerance&gt;0.0032808333333333331&lt;/XYTolerance&gt;&lt;ZTolerance&gt;0.0032808333333333331&lt;/ZTolerance&gt;&lt;MTolerance&gt;0.001&lt;/MTolerance&gt;&lt;HighPrecision&gt;true&lt;/HighPrecision&gt;&lt;WKID&gt;2881&lt;/WKID&gt;&lt;LatestWKID&gt;2881&lt;/LatestWKID&gt;&lt;/ProjectedCoordinateSystem&gt;</peXml>
</coordRef>
<RasterProperties>
<General>
<PixelDepth Sync="TRUE">32</PixelDepth>
<HasColormap Sync="TRUE">FALSE</HasColormap>
<CompressionType Sync="TRUE">LZW</CompressionType>
<NumBands Sync="TRUE">1</NumBands>
<Format Sync="TRUE">TIFF</Format>
<HasPyramids Sync="TRUE">TRUE</HasPyramids>
<SourceType Sync="TRUE">continuous</SourceType>
<PixelType Sync="TRUE">floating point</PixelType>
<NoDataValue Sync="TRUE">-3.4028235e+038</NoDataValue>
</General>
</RasterProperties>
</DataProperties>
</Esri>
<dataIdInfo>
<envirDesc Sync="FALSE">Esri ArcGIS 10.2.1.3497</envirDesc>
<dataLang>
<languageCode Sync="TRUE" value="eng">
</languageCode>
<countryCode Sync="TRUE" value="USA">
</countryCode>
</dataLang>
<idCitation>
<resTitle Sync="TRUE">IRC_DEM_15ft.tif</resTitle>
<presForm>
<PresFormCd Sync="TRUE" value="005">
</PresFormCd>
</presForm>
</idCitation>
<spatRpType>
<SpatRepTypCd Sync="TRUE" value="002">
</SpatRepTypCd>
</spatRpType>
<dataExt>
<geoEle>
<GeoBndBox esriExtentType="native">
<westBL Sync="TRUE">779997.500042</westBL>
<eastBL Sync="TRUE">880002.500042</eastBL>
<northBL Sync="TRUE">1285002.499934</northBL>
<southBL Sync="TRUE">1169997.499934</southBL>
<exTypeCode Sync="TRUE">1</exTypeCode>
</GeoBndBox>
</geoEle>
</dataExt>
<geoBox esriExtentType="decdegrees">
<westBL Sync="TRUE">-80.617825</westBL>
<eastBL Sync="TRUE">-80.307202</eastBL>
<northBL Sync="TRUE">27.868259</northBL>
<southBL Sync="TRUE">27.55073</southBL>
<exTypeCode Sync="TRUE">1</exTypeCode>
</geoBox>
<dataExt>
<geoEle>
<GeoBndBox esriExtentType="search">
<exTypeCode Sync="TRUE">1</exTypeCode>
<westBL Sync="TRUE">-80.617825</westBL>
<eastBL Sync="TRUE">-80.307202</eastBL>
<northBL Sync="TRUE">27.868259</northBL>
<southBL Sync="TRUE">27.550730</southBL>
</GeoBndBox>
</geoEle>
</dataExt>
<idAbs> This raster grid is derived from a terrain dataset created from LiDAR data flown from July 2007 to August 2007 by Woolpert Inc.</idAbs>
<searchKeys>
<keyword> LIDAR</keyword>
<keyword>Digital Terrain Model (DTM)</keyword>
</searchKeys>
<idPurp>Raster elevation grid, 15 ft grd, created from Florid DEM 2007 LiDAR elevation data.</idPurp>
<idCredit>IRC</idCredit>
<resConst>
<Consts>
<useLimit>none</useLimit>
